BEGIN:VCALENDAR
VERSION:2.0
PRODID:Events Booking
BEGIN:VEVENT
UID:69e8e8b52d834
SUMMARY:Zoom sur le syndrome prémenstruel
DESCRIPTION:Parce que le syndrome prémenstruel ne devrait pas être un suj
 et tabou\, venez en discuter autour d'un thé\; vous apprendrez pleins de 
 nouvelles choses\, soit simplement pour découvrir et mieux comprendre de 
 quoi l'on parle\, soit à mettre en pratique directement !
LOCATION:À droite dans le bâtiment de la mairie\, Place de la Mairie\, Le
 s Hôpitaux-Neufs\, 25370 Bourgogne-Franche-Comté
DTSTART:20250614T140000Z
DTEND:20250614T153000Z
DTSTAMP:20250507T164602Z
ORGANIZER;CN=Comité d'animation des Hôpitaux-Neufs:MAILTO:postmaster@comi
 te-animation-hn.fr
GEO:46.776854;6.373636
X-APPLE-STRUCTURED-LOCATION;VALUE=URI;X-ADDRESS=À droite dans le bâtiment
  de la mairie\, Place de la Mairie\, Les Hôpitaux-Neufs\, 25370 Bourgogne
 -Franche-Comté;X-APPLE-RADIUS=72;X-TITLE=Le Vert Clair:46.776854;6.373636
END:VEVENT
END:VCALENDAR