BEGIN:VCALENDAR
VERSION:2.0
PRODID:Events Booking
BEGIN:VEVENT
UID:69ebe934b5167
SUMMARY:Marche gourmande des alpages 2024
DESCRIPTION:    Sur un parcours d’environ 12 km\, la marche gourmande des
  alpages vous fera découvrir notre village\, ses sentiers forestiers et s
 on patrimoine naturel\, le tout agrémenté par des haltes gourmandes.
 
  
LOCATION:Halle polyvalente\, Route de la Poste\, Les Hôpitaux-Neufs\, 2537
 0 Bourgogne-Franche-Comté
DTSTART:20240804T083000Z
DTSTAMP:20231229T162622Z
ORGANIZER;CN=Comité d'animation des Hôpitaux-Neufs:MAILTO:postmaster@comi
 te-animation-hn.fr
GEO:46.776929;6.373449
X-APPLE-STRUCTURED-LOCATION;VALUE=URI;X-ADDRESS=Halle polyvalente\, Route d
 e la Poste\, Les Hôpitaux-Neufs\, 25370 Bourgogne-Franche-Comté;X-APPLE-
 RADIUS=72;X-TITLE=Halle des Hôpitaux-Neufs:46.776929;6.373449
END:VEVENT
END:VCALENDAR