BEGIN:VCALENDAR
VERSION:2.0
PRODID:Events Booking
BEGIN:VEVENT
UID:69e7a2d82419c
SUMMARY:Eveil à l'anglais 
DESCRIPTION:Hi kids !
 Venez partager la passion de Nathalie et d’Emma 
 pour la langue anglaise et la culture anglophone ! (Pour les enfants de 3 
 à 5 ans)
LOCATION:Mairie\, Place de la Mairie\, Les Hôpitaux-Neufs\, 25370 Bourgogn
 e-Franche-Comté
DTSTART:20230323T153000Z
DTEND:20230323T161500Z
DTSTAMP:20230303T073654Z
ORGANIZER;CN=Comité d'animation des Hôpitaux-Neufs:MAILTO:postmaster@comi
 te-animation-hn.fr
GEO:46.776817;6.373685
X-APPLE-STRUCTURED-LOCATION;VALUE=URI;X-ADDRESS=Mairie\, Place de la Mairie
 \, Les Hôpitaux-Neufs\, 25370 Bourgogne-Franche-Comté;X-APPLE-RADIUS=72;
 X-TITLE=Salle tranchand:46.776817;6.373685
END:VEVENT
END:VCALENDAR