BEGIN:VCALENDAR
VERSION:2.0
PRODID:Events Booking
BEGIN:VEVENT
UID:69e5dda3eb9fb
SUMMARY:Un moment d'histoires 
DESCRIPTION:Tu adores qu'on te raconte des histoires et tu as bien raison 
 ! Alors n’hésite pas à venir accompagné pour que je te partage aussi 
 ma passion des livres.
LOCATION:À droite dans le bâtiment de la mairie\, Place de la Mairie\, Le
 s Hôpitaux-Neufs\, 25370 Bourgogne-Franche-Comté
DTSTART:20240427T150000Z
DTEND:20240427T153000Z
DTSTAMP:20240214T134502Z
ORGANIZER;CN=Comité d'animation des Hôpitaux-Neufs:MAILTO:postmaster@comi
 te-animation-hn.fr
GEO:46.776854;6.373636
X-APPLE-STRUCTURED-LOCATION;VALUE=URI;X-ADDRESS=À droite dans le bâtiment
  de la mairie\, Place de la Mairie\, Les Hôpitaux-Neufs\, 25370 Bourgogne
 -Franche-Comté;X-APPLE-RADIUS=72;X-TITLE=Le Vert Clair:46.776854;6.373636
END:VEVENT
END:VCALENDAR