BEGIN:VCALENDAR
VERSION:2.0
PRODID:Events Booking
BEGIN:VEVENT
UID:69e7d15438fad
SUMMARY:Séance d'hypnose collective
DESCRIPTION:Séance d'hypnose collective proposé par une note de SAJECE 
 
  
LOCATION:Mairie\, Place de la Mairie\, Les Hôpitaux-Neufs\, 25370 Bourgogn
 e-Franche-Comté
DTSTART:20260502T090000Z
DTEND:20260502T100000Z
DTSTAMP:20260415T135932Z
ORGANIZER;CN=Comité d'animation des Hôpitaux-Neufs:MAILTO:postmaster@comi
 te-animation-hn.fr
GEO:46.776817;6.373685
X-APPLE-STRUCTURED-LOCATION;VALUE=URI;X-ADDRESS=Mairie\, Place de la Mairie
 \, Les Hôpitaux-Neufs\, 25370 Bourgogne-Franche-Comté;X-APPLE-RADIUS=72;
 X-TITLE=Salle tranchand:46.776817;6.373685
END:VEVENT
END:VCALENDAR