BEGIN:VCALENDAR
VERSION:2.0
PRODID:Events Booking
BEGIN:VEVENT
UID:69e8e83323711
SUMMARY:La Réflexologie Plantaire : comment ça marche ?
DESCRIPTION:S'approprier des points clés au niveau des pieds permettant no
 n seulement la détente\, mais bien plus encore...
LOCATION:À droite dans le bâtiment de la mairie\, Place de la Mairie\, Le
 s Hôpitaux-Neufs\, 25370 Bourgogne-Franche-Comté
DTSTART:20250322T143000Z
DTEND:20250322T163000Z
DTSTAMP:20250311T154438Z
ORGANIZER;CN=Comité d'animation des Hôpitaux-Neufs:MAILTO:postmaster@comi
 te-animation-hn.fr
GEO:46.776854;6.373636
X-APPLE-STRUCTURED-LOCATION;VALUE=URI;X-ADDRESS=À droite dans le bâtiment
  de la mairie\, Place de la Mairie\, Les Hôpitaux-Neufs\, 25370 Bourgogne
 -Franche-Comté;X-APPLE-RADIUS=72;X-TITLE=Le Vert Clair:46.776854;6.373636
END:VEVENT
END:VCALENDAR