BEGIN:VCALENDAR
VERSION:2.0
PRODID:Events Booking
BEGIN:VEVENT
UID:69ea04ef84933
SUMMARY:Atelier floral graphique
DESCRIPTION:Ombellisa et ses talents floraux reviennent nous enchanter pour
  cet atelier.
LOCATION:À droite dans le bâtiment de la mairie\, Place de la Mairie\, Le
 s Hôpitaux-Neufs\, 25370 Bourgogne-Franche-Comté
DTSTART:20260604T163000Z
DTSTAMP:20260423T064141Z
ORGANIZER;CN=Comité d'animation des Hôpitaux-Neufs:MAILTO:postmaster@comi
 te-animation-hn.fr
GEO:46.776854;6.373636
X-APPLE-STRUCTURED-LOCATION;VALUE=URI;X-ADDRESS=À droite dans le bâtiment
  de la mairie\, Place de la Mairie\, Les Hôpitaux-Neufs\, 25370 Bourgogne
 -Franche-Comté;X-APPLE-RADIUS=72;X-TITLE=Le Vert Clair:46.776854;6.373636
END:VEVENT
END:VCALENDAR